BEGIN:VCALENDAR
VERSION:2.0
PRODID:-//Tampa Bay Connects - ECPv6.15.20//NONSGML v1.0//EN
CALSCALE:GREGORIAN
METHOD:PUBLISH
X-ORIGINAL-URL:https://tampabayconnects.com
X-WR-CALDESC:Events for Tampa Bay Connects
REFRESH-INTERVAL;VALUE=DURATION:PT1H
X-Robots-Tag:noindex
X-PUBLISHED-TTL:PT1H
BEGIN:VTIMEZONE
TZID:America/Halifax
BEGIN:DAYLIGHT
TZOFFSETFROM:-0400
TZOFFSETTO:-0300
TZNAME:ADT
DTSTART:20240310T060000
END:DAYLIGHT
BEGIN:STANDARD
TZOFFSETFROM:-0300
TZOFFSETTO:-0400
TZNAME:AST
DTSTART:20241103T050000
END:STANDARD
BEGIN:DAYLIGHT
TZOFFSETFROM:-0400
TZOFFSETTO:-0300
TZNAME:ADT
DTSTART:20250309T060000
END:DAYLIGHT
BEGIN:STANDARD
TZOFFSETFROM:-0300
TZOFFSETTO:-0400
TZNAME:AST
DTSTART:20251102T050000
END:STANDARD
BEGIN:DAYLIGHT
TZOFFSETFROM:-0400
TZOFFSETTO:-0300
TZNAME:ADT
DTSTART:20260308T060000
END:DAYLIGHT
BEGIN:STANDARD
TZOFFSETFROM:-0300
TZOFFSETTO:-0400
TZNAME:AST
DTSTART:20261101T050000
END:STANDARD
END:VTIMEZONE
BEGIN:VEVENT
DTSTART;TZID=America/Halifax:20251030T180000
DTEND;TZID=America/Halifax:20251030T210000
DTSTAMP:20260424T233401
CREATED:20250930T184003Z
LAST-MODIFIED:20250930T184003Z
UID:116613-1761847200-1761858000@tampabayconnects.com
SUMMARY:Rooftop Networking After-Hours at Sterling Lounge – Free Appetizers!
DESCRIPTION:Tampa professionals — get ready to elevate your evening (literally)! Join us for the Rooftop Networking After-Hours at Sterling Lounge\, an unforgettable night of connection\, conversation\, and skyline views in the heart of Ybor City. \n🗓 Date: October 30\, 2025⏰ Time: 6:00 PM – 9:00 PM EDT📍 Location: Sterling Cigar Lounge & Bar1531 East 7th Avenue\, Tampa\, FL 33605 \nStep into one of Tampa’s most stylish rooftop venues and network with local entrepreneurs\, professionals\, creatives\, and business owners. Whether you’re looking to grow your network\, meet potential collaborators\, or just unwind with great company — this is the place to be. \nAnd yes — FREE appetizers are included! \nWhy attend? \n\n\nA stunning rooftop atmosphere \n\n\nComplimentary appetizers to fuel great convo \n\n\nA diverse mix of 100+ Tampa Bay professionals \n\n\nChill vibes\, strong connections\, and big opportunities \n\n\n👉 Reserve your FREE spot now:🔗 Click here to register \nCatch the vibe before you arrive:📸 Follow on Instagram \n#Tampa #TampaBay #StPete #Clearwater #ThingsToDo #LocalEvents #Networking #TampaBayConnects #TampaNetworking #WomenInBusiness #TampaEntrepreneurs #Startups #TampaEats #TampaNightlife #DowntownTampa #TampaEvents #TampaSocials#tampaMagazine #TampaBayMagazine \nTampaBusinessClub.com \nTampabayconnects.com \nWomenImpactNetwork.com \nTampaBayLatinChamber.com \n  \n  \n  \n \ntampabayconnects
URL:https://tampabayconnects.com/event/rooftop-networking-after-hours-at-sterling-lounge-free-appetizers/
ATTACH;FMTTYPE=image/jpeg:https://tampabayconnects.com/wp-content/uploads/2025/09/https___cdn.evbuc_.com_images_1135508903_219764649937_1_original.jpeg
END:VEVENT
END:VCALENDAR