BEGIN:VCALENDAR
VERSION:2.0
PRODID:-//Tampa Bay Connects - ECPv6.15.20//NONSGML v1.0//EN
CALSCALE:GREGORIAN
METHOD:PUBLISH
X-WR-CALNAME:Tampa Bay Connects
X-ORIGINAL-URL:https://tampabayconnects.com
X-WR-CALDESC:Events for Tampa Bay Connects
REFRESH-INTERVAL;VALUE=DURATION:PT1H
X-Robots-Tag:noindex
X-PUBLISHED-TTL:PT1H
BEGIN:VTIMEZONE
TZID:America/Halifax
BEGIN:DAYLIGHT
TZOFFSETFROM:-0400
TZOFFSETTO:-0300
TZNAME:ADT
DTSTART:20250309T060000
END:DAYLIGHT
BEGIN:STANDARD
TZOFFSETFROM:-0300
TZOFFSETTO:-0400
TZNAME:AST
DTSTART:20251102T050000
END:STANDARD
BEGIN:DAYLIGHT
TZOFFSETFROM:-0400
TZOFFSETTO:-0300
TZNAME:ADT
DTSTART:20260308T060000
END:DAYLIGHT
BEGIN:STANDARD
TZOFFSETFROM:-0300
TZOFFSETTO:-0400
TZNAME:AST
DTSTART:20261101T050000
END:STANDARD
BEGIN:DAYLIGHT
TZOFFSETFROM:-0400
TZOFFSETTO:-0300
TZNAME:ADT
DTSTART:20270314T060000
END:DAYLIGHT
BEGIN:STANDARD
TZOFFSETFROM:-0300
TZOFFSETTO:-0400
TZNAME:AST
DTSTART:20271107T050000
END:STANDARD
END:VTIMEZONE
BEGIN:VEVENT
DTSTART;TZID=America/Halifax:20260205T180000
DTEND;TZID=America/Halifax:20260205T203000
DTSTAMP:20260424T182729
CREATED:20260120T135610Z
LAST-MODIFIED:20260120T135610Z
UID:120275-1770314400-1770323400@tampabayconnects.com
SUMMARY:Women Impact Network Tarpon Springs Hosts Free Admission Networking Events
DESCRIPTION:The Tampa Business Club is hosting the Women Impact Network Tarpon Springs\, a free admission networking event designed to empower women in business and support professional growth in the Tampa Bay area. This recurring event provides a welcoming space for women entrepreneurs\, professionals\, and leaders to connect\, collaborate\, and build meaningful relationships. \nThe event takes place at Tarpon Turtle Waterfront Grill & Marina\, located at 1513 Lake Tarpon Avenue\, Tarpon Springs\, FL 34689\, with multiple dates available for attendees to join when it fits their schedule. \n📍 Location: Tarpon Turtle Waterfront Grill & Marina\, 1513 Lake Tarpon Ave\, Tarpon Springs\, FL 34689\n📅 Date:  first Wednesday of every month \n⏰ Time: 6pm to 8:30pm \n👉 Event Registration:\nhttps://www.eventbrite.com/e/women-impact-network-tarpon-springs-free-admission-tickets-1658187857519?aff=ebdsoporgprofile \n🔗 Organizer: Tampa Business Club\n📸 Instagram: https://www.instagram.com/tampabusinessclub/?hl=en\n🌐 Website: https://tampabusinessclub.com/ \n  \n#Tampa #TampaBay #StPete #Clearwater #ThingsToDo #LocalEvents #Networking #TampaBayConnects #TampaNetworking #WomenInBusiness #TampaEntrepreneurs #Startups #TampaEats #TampaNightlife #DowntownTampa #TampaEvents #TampaSocials #tampaMagazine #TampaBayMagazine \n  \nTampaBusinessClub.com \nTampabayconnects.com \nWomenImpactNetwork.com \nTampaBayLatinChamber.com \nInGateConsulting.com \n  \n👉 Event Registration:\nhttps://www.eventbrite.com/e/women-impact-network-tarpon-springs-free-admission-tickets-1658187857519?aff=ebdsoporgprofile \nTampa Bay Connects is a community discovery and media platform. We do not organize\, host\, manage\, or operate the events featured on this site. All events\, trademarks\, logos\, photographs\, and promotional materials are the property of their respective owners and are displayed for informational and promotional purposes only. \n  \nOur content is shared to help connect the community with local experiences and is sourced from public event listings\, organizers\, or official promotional channels. Full credit is given to the original event organizers\, and direct links to official event pages are provided whenever available. \n  \nInclusion on TampaBayConnects.com does not imply sponsorship\, partnership\, or endorsement by Tampa Bay Connects\, unless explicitly stated. \n \ntampabayconnects
URL:https://tampabayconnects.com/event/women-impact-network-tarpon-springs-hosts-free-admission-networking-events/
ATTACH;FMTTYPE=image/jpeg:https://tampabayconnects.com/wp-content/uploads/2026/01/https___cdn.evbuc_.com_images_1112561733_219764649937_1_original.jpg
END:VEVENT
BEGIN:VEVENT
DTSTART;TZID=America/Halifax:20260205T180000
DTEND;TZID=America/Halifax:20260205T210000
DTSTAMP:20260424T182729
CREATED:20260123T130350Z
LAST-MODIFIED:20260123T130350Z
UID:120481-1770314400-1770325200@tampabayconnects.com
SUMMARY:Rooftop Networking After-Hours @ Sterling Lounge
DESCRIPTION:Local professionals are invited to mix\, mingle\, and make meaningful connections at Rooftop Networking After-Hours @ Sterling Lounge\, an evening networking event designed for business owners\, entrepreneurs\, and professionals across the Tampa Bay area. \nOrganized by Tampa Business Club\, the event will take place on Wednesday\, February 5\, from 6:00 PM to 9:00 PM EST at Sterling Cigar Lounge & Bar in Ybor City. Attendees can enjoy a relaxed rooftop setting while expanding their professional network. \n📍 Location:\nSterling Cigar Lounge & Bar\n1531 East 7th Avenue\nTampa\, FL 33605 \n🎟 Event Registration:\nhttps://www.eventbrite.com/e/rooftop-networking-after-hours-sterling-lounge-tickets-1981351740392?aff=ebdssbdestsearch \n🔗 Learn More & Follow:\nWebsite: https://tampabusinessclub.com/\nInstagram: https://www.instagram.com/tampabusinessclub/?hl=en\nFacebook: https://www.facebook.com/tampabusinessclub/ \n  \n#Tampa #TampaBay #StPete #Clearwater #ThingsToDo #LocalEvents #Networking #TampaBayConnects #TampaNetworking #WomenInBusiness #TampaEntrepreneurs #Startups #TampaEats #TampaNightlife #DowntownTampa #TampaEvents #TampaSocials #tampaMagazine #TampaBayMagazine \n  \nTampaBusinessClub.com \nTampabayconnects.com \nWomenImpactNetwork.com \nTampaBayLatinChamber.com \nInGateConsulting.com \n🎟 Event Registration:\nhttps://www.eventbrite.com/e/rooftop-networking-after-hours-sterling-lounge-tickets-1981351740392?aff=ebdssbdestsearch \n\nTampa Bay Connects is a community discovery and media platform. We do not organize\, host\, manage\, or operate the events featured on this site. All events\, trademarks\, logos\, photographs\, and promotional materials are the property of their respective owners and are displayed for informational and promotional purposes only. \n  \nOur content is shared to help connect the community with local experiences and is sourced from public event listings\, organizers\, or official promotional channels. Full credit is given to the original event organizers\, and direct links to official event pages are provided whenever available. \n  \nInclusion on TampaBayConnects.com does not imply sponsorship\, partnership\, or endorsement by Tampa Bay Connects\, unless explicitly stated. \n \ntampabayconnects
URL:https://tampabayconnects.com/event/rooftop-networking-after-hours-sterling-lounge-2/
ATTACH;FMTTYPE=image/jpeg:https://tampabayconnects.com/wp-content/uploads/2026/01/https___cdn.evbuc_.com_images_1175567877_219764649937_1_original.jpg
END:VEVENT
END:VCALENDAR