BEGIN:VCALENDAR
VERSION:2.0
PRODID:-//Tampa Bay Connects - ECPv6.15.20//NONSGML v1.0//EN
CALSCALE:GREGORIAN
METHOD:PUBLISH
X-WR-CALNAME:Tampa Bay Connects
X-ORIGINAL-URL:https://tampabayconnects.com
X-WR-CALDESC:Events for Tampa Bay Connects
REFRESH-INTERVAL;VALUE=DURATION:PT1H
X-Robots-Tag:noindex
X-PUBLISHED-TTL:PT1H
BEGIN:VTIMEZONE
TZID:America/Halifax
BEGIN:DAYLIGHT
TZOFFSETFROM:-0400
TZOFFSETTO:-0300
TZNAME:ADT
DTSTART:20250309T060000
END:DAYLIGHT
BEGIN:STANDARD
TZOFFSETFROM:-0300
TZOFFSETTO:-0400
TZNAME:AST
DTSTART:20251102T050000
END:STANDARD
BEGIN:DAYLIGHT
TZOFFSETFROM:-0400
TZOFFSETTO:-0300
TZNAME:ADT
DTSTART:20260308T060000
END:DAYLIGHT
BEGIN:STANDARD
TZOFFSETFROM:-0300
TZOFFSETTO:-0400
TZNAME:AST
DTSTART:20261101T050000
END:STANDARD
BEGIN:DAYLIGHT
TZOFFSETFROM:-0400
TZOFFSETTO:-0300
TZNAME:ADT
DTSTART:20270314T060000
END:DAYLIGHT
BEGIN:STANDARD
TZOFFSETFROM:-0300
TZOFFSETTO:-0400
TZNAME:AST
DTSTART:20271107T050000
END:STANDARD
END:VTIMEZONE
BEGIN:VEVENT
DTSTART;TZID=America/Halifax:20260206T113000
DTEND;TZID=America/Halifax:20260206T133000
DTSTAMP:20260424T182730
CREATED:20260120T142815Z
LAST-MODIFIED:20260120T142815Z
UID:120288-1770377400-1770384600@tampabayconnects.com
SUMMARY:Women Impact Network Largo Chapter Meets at Belleair Coffee Company and Tap House
DESCRIPTION:The Tampa Business Club is hosting the Women Impact Network Largo Chapter\, a recurring networking event designed to connect and empower women professionals\, entrepreneurs\, and business owners in the Tampa Bay area. This event offers a welcoming space for women to collaborate\, build relationships\, and support one another’s growth in a relaxed and friendly environment. \nThe event takes place at Belleair Coffee Company and Tap House\, located at 1158 7th Street Northwest\, Largo\, FL 33770\, with multiple dates available. \n📍 Location: Belleair Coffee Company and Tap House\, 1158 7th St NW\, Largo\, FL 33770\n📅 Date: 1st Thursday of every month\n⏰ Time: 1:30am -1:30pm (Eastern Time) \n👉 Event Registration:\nhttps://www.eventbrite.com/e/women-impact-network-largo-chapter-tickets-1804197115139?aff=ebdsoporgprofile\n\n🔗 Organizer: Tampa Business Club\n📸 Instagram: https://www.instagram.com/tampabusinessclub/?hl=en\n🌐 Website: https://tampabusinessclub.com/ \n  \n#Tampa #TampaBay #StPete #Clearwater #ThingsToDo #LocalEvents #Networking #TampaBayConnects #TampaNetworking #WomenInBusiness #TampaEntrepreneurs #Startups #TampaEats #TampaNightlife #DowntownTampa #TampaEvents #TampaSocials #tampaMagazine #TampaBayMagazine \n  \nTampaBusinessClub.com \nTampabayconnects.com \nWomenImpactNetwork.com \nTampaBayLatinChamber.com \nInGateConsulting.com \n\n👉 Event Registration:\nhttps://www.eventbrite.com/e/women-impact-network-largo-chapter-tickets-1804197115139?aff=ebdsoporgprofile \n  \nTampa Bay Connects is a community discovery and media platform. We do not organize\, host\, manage\, or operate the events featured on this site. All events\, trademarks\, logos\, photographs\, and promotional materials are the property of their respective owners and are displayed for informational and promotional purposes only. \n  \nOur content is shared to help connect the community with local experiences and is sourced from public event listings\, organizers\, or official promotional channels. Full credit is given to the original event organizers\, and direct links to official event pages are provided whenever available. \n  \nInclusion on TampaBayConnects.com does not imply sponsorship\, partnership\, or endorsement by Tampa Bay Connects\, unless explicitly stated. \n \ntampabayconnects
URL:https://tampabayconnects.com/event/women-impact-network-largo-chapter-meets-at-belleair-coffee-company-and-tap-house/
ATTACH;FMTTYPE=image/jpeg:https://tampabayconnects.com/wp-content/uploads/2026/01/https___cdn.evbuc_.com_images_1173540972_219764649937_1_original.jpg
END:VEVENT
END:VCALENDAR