BEGIN:VCALENDAR
VERSION:2.0
PRODID:-//Tampa Bay Connects - ECPv6.15.20//NONSGML v1.0//EN
CALSCALE:GREGORIAN
METHOD:PUBLISH
X-ORIGINAL-URL:https://tampabayconnects.com
X-WR-CALDESC:Events for Tampa Bay Connects
REFRESH-INTERVAL;VALUE=DURATION:PT1H
X-Robots-Tag:noindex
X-PUBLISHED-TTL:PT1H
BEGIN:VTIMEZONE
TZID:America/Halifax
BEGIN:DAYLIGHT
TZOFFSETFROM:-0400
TZOFFSETTO:-0300
TZNAME:ADT
DTSTART:20250309T060000
END:DAYLIGHT
BEGIN:STANDARD
TZOFFSETFROM:-0300
TZOFFSETTO:-0400
TZNAME:AST
DTSTART:20251102T050000
END:STANDARD
BEGIN:DAYLIGHT
TZOFFSETFROM:-0400
TZOFFSETTO:-0300
TZNAME:ADT
DTSTART:20260308T060000
END:DAYLIGHT
BEGIN:STANDARD
TZOFFSETFROM:-0300
TZOFFSETTO:-0400
TZNAME:AST
DTSTART:20261101T050000
END:STANDARD
BEGIN:DAYLIGHT
TZOFFSETFROM:-0400
TZOFFSETTO:-0300
TZNAME:ADT
DTSTART:20270314T060000
END:DAYLIGHT
BEGIN:STANDARD
TZOFFSETFROM:-0300
TZOFFSETTO:-0400
TZNAME:AST
DTSTART:20271107T050000
END:STANDARD
END:VTIMEZONE
BEGIN:VEVENT
DTSTART;TZID=America/Halifax:20260210T090000
DTEND;TZID=America/Halifax:20260210T110000
DTSTAMP:20260424T183045
CREATED:20260126T132634Z
LAST-MODIFIED:20260126T132634Z
UID:120519-1770714000-1770721200@tampabayconnects.com
SUMMARY:Coffee and Referrals @ Ybor City Coffee (Open Networking) 
DESCRIPTION:Start your morning connecting with local professionals at Coffee and Referrals @ Ybor City Coffee\, an open networking event hosted by Tampa Business Club. This casual meetup is perfect for entrepreneurs\, small business owners\, and professionals looking to build relationships\, share referrals\, and grow their network over a cup of coffee. \n📍 Event Details:\nOrganizer: Tampa Business Club\nLocation: Ybor City Coffee and Tea Co\, Tampa\, FL\nDate & Time: February 10 from 9:00 AM to 11:00 AM EST \n🎟️ Event Registration:\n👉 RSVP here: https://www.eventbrite.com/e/coffee-and-referrals-ybor-city-coffee-open-networking-tickets-1981444399538?aff=ebdsoporgprofile \n📱 Social Media & More Info:\nWebsite: https://tampabusinessclub.com/\nInstagram: https://www.instagram.com/tampabusinessclub/?hl=en\nFacebook: https://www.facebook.com/tampabusinessclub/ \n  \n#Tampa #TampaBay #StPete #Clearwater #ThingsToDo #LocalEvents #Networking #TampaBayConnects #TampaNetworking #WomenInBusiness #TampaEntrepreneurs #Startups #TampaEats #TampaNightlife #DowntownTampa #TampaEvents #TampaSocials #tampaMagazine #TampaBayMagazine \n  \nTampaBusinessClub.com \nTampabayconnects.com \nWomenImpactNetwork.com \nTampaBayLatinChamber.com \nInGateConsulting.com \n  \n🎟️ Event Registration:\n👉 RSVP here: https://www.eventbrite.com/e/coffee-and-referrals-ybor-city-coffee-open-networking-tickets-1981444399538?aff=ebdsoporgprofile \n\nTampa Bay Connects is a community discovery and media platform. We do not organize\, host\, manage\, or operate the events featured on this site. All events\, trademarks\, logos\, photographs\, and promotional materials are the property of their respective owners and are displayed for informational and promotional purposes only. \n  \nOur content is shared to help connect the community with local experiences and is sourced from public event listings\, organizers\, or official promotional channels. Full credit is given to the original event organizers\, and direct links to official event pages are provided whenever available. \n  \nInclusion on TampaBayConnects.com does not imply sponsorship\, partnership\, or endorsement by Tampa Bay Connects\, unless explicitly stated. \n \ntampabayconnects
URL:https://tampabayconnects.com/event/coffee-and-referrals-ybor-city-coffee-open-networking/
ATTACH;FMTTYPE=image/jpeg:https://tampabayconnects.com/wp-content/uploads/2026/01/https___cdn.evbuc_.com_images_1175668761_219764649937_1_original.jpg
END:VEVENT
END:VCALENDAR