BEGIN:VCALENDAR
VERSION:2.0
PRODID:-//Tampa Bay Connects - ECPv6.15.20//NONSGML v1.0//EN
CALSCALE:GREGORIAN
METHOD:PUBLISH
X-WR-CALNAME:Tampa Bay Connects
X-ORIGINAL-URL:https://tampabayconnects.com
X-WR-CALDESC:Events for Tampa Bay Connects
REFRESH-INTERVAL;VALUE=DURATION:PT1H
X-Robots-Tag:noindex
X-PUBLISHED-TTL:PT1H
BEGIN:VTIMEZONE
TZID:America/Halifax
BEGIN:DAYLIGHT
TZOFFSETFROM:-0400
TZOFFSETTO:-0300
TZNAME:ADT
DTSTART:20250309T060000
END:DAYLIGHT
BEGIN:STANDARD
TZOFFSETFROM:-0300
TZOFFSETTO:-0400
TZNAME:AST
DTSTART:20251102T050000
END:STANDARD
BEGIN:DAYLIGHT
TZOFFSETFROM:-0400
TZOFFSETTO:-0300
TZNAME:ADT
DTSTART:20260308T060000
END:DAYLIGHT
BEGIN:STANDARD
TZOFFSETFROM:-0300
TZOFFSETTO:-0400
TZNAME:AST
DTSTART:20261101T050000
END:STANDARD
BEGIN:DAYLIGHT
TZOFFSETFROM:-0400
TZOFFSETTO:-0300
TZNAME:ADT
DTSTART:20270314T060000
END:DAYLIGHT
BEGIN:STANDARD
TZOFFSETFROM:-0300
TZOFFSETTO:-0400
TZNAME:AST
DTSTART:20271107T050000
END:STANDARD
END:VTIMEZONE
BEGIN:VEVENT
DTSTART;TZID=America/Halifax:20260211T180000
DTEND;TZID=America/Halifax:20260211T203000
DTSTAMP:20260424T182742
CREATED:20260120T134854Z
LAST-MODIFIED:20260120T134854Z
UID:120272-1770832800-1770841800@tampabayconnects.com
SUMMARY:Women Impact Network Wesley Chapel – Free Admission Event at Hyatt Place
DESCRIPTION:The Tampa Business Club is hosting Women Impact Network Wesley Chapel\, a free admission networking event designed to empower women in business and foster meaningful connections within the Tampa Bay community. This gathering is a great opportunity for professionals\, entrepreneurs\, and leaders to collaborate\, share resources\, and build relationships in a supportive environment. \nThe event will take place at Hyatt Place Tampa Wesley Chapel\, located at 26000 Sierra Center Boulevard\, Lutz\, FL 33559. \n📍 Location: Hyatt Place Tampa Wesley Chapel\, 26000 Sierra Center Blvd\, Lutz\, FL 33559\n📅 Date:  2nd Tuesday of every month. 6pm to 8:30pm\n⏰ Time:  6pm to 8:30pm \n👉 Event Registration:\nhttps://www.eventbrite.com/e/women-impact-network-wesley-chapel-free-admission-tickets-1549355266309?aff=ebdsoporgprofile \n🔗 Organizer: Tampa Business Club\n📸 Instagram: https://www.instagram.com/tampabusinessclub/?hl=en\n🌐 Website: https://tampabusinessclub.com/ \n#Tampa #TampaBay #StPete #Clearwater #ThingsToDo #LocalEvents #Networking #TampaBayConnects #TampaNetworking #WomenInBusiness #TampaEntrepreneurs #Startups #TampaEats #TampaNightlife #DowntownTampa #TampaEvents #TampaSocials #tampaMagazine #TampaBayMagazine \n  \nTampaBusinessClub.com \nTampabayconnects.com \nWomenImpactNetwork.com \nTampaBayLatinChamber.com \nInGateConsulting.com \n  \n👉 Event Registration:\nhttps://www.eventbrite.com/e/women-impact-network-wesley-chapel-free-admission-tickets-1549355266309?aff=ebdsoporgprofile \n  \nTampa Bay Connects is a community discovery and media platform. We do not organize\, host\, manage\, or operate the events featured on this site. All events\, trademarks\, logos\, photographs\, and promotional materials are the property of their respective owners and are displayed for informational and promotional purposes only. \n  \nOur content is shared to help connect the community with local experiences and is sourced from public event listings\, organizers\, or official promotional channels. Full credit is given to the original event organizers\, and direct links to official event pages are provided whenever available. \n  \nInclusion on TampaBayConnects.com does not imply sponsorship\, partnership\, or endorsement by Tampa Bay Connects\, unless explicitly stated. \n \ntampabayconnects
URL:https://tampabayconnects.com/event/women-impact-network-wesley-chapel-free-admission-event-at-hyatt-place/
ATTACH;FMTTYPE=image/jpeg:https://tampabayconnects.com/wp-content/uploads/2026/01/https___cdn.evbuc_.com_images_1152510443_219764649937_1_original.jpg
END:VEVENT
END:VCALENDAR