BEGIN:VCALENDAR
VERSION:2.0
PRODID:-//Tampa Bay Connects - ECPv6.15.20//NONSGML v1.0//EN
CALSCALE:GREGORIAN
METHOD:PUBLISH
X-WR-CALNAME:Tampa Bay Connects
X-ORIGINAL-URL:https://tampabayconnects.com
X-WR-CALDESC:Events for Tampa Bay Connects
REFRESH-INTERVAL;VALUE=DURATION:PT1H
X-Robots-Tag:noindex
X-PUBLISHED-TTL:PT1H
BEGIN:VTIMEZONE
TZID:America/Halifax
BEGIN:DAYLIGHT
TZOFFSETFROM:-0400
TZOFFSETTO:-0300
TZNAME:ADT
DTSTART:20250309T060000
END:DAYLIGHT
BEGIN:STANDARD
TZOFFSETFROM:-0300
TZOFFSETTO:-0400
TZNAME:AST
DTSTART:20251102T050000
END:STANDARD
BEGIN:DAYLIGHT
TZOFFSETFROM:-0400
TZOFFSETTO:-0300
TZNAME:ADT
DTSTART:20260308T060000
END:DAYLIGHT
BEGIN:STANDARD
TZOFFSETFROM:-0300
TZOFFSETTO:-0400
TZNAME:AST
DTSTART:20261101T050000
END:STANDARD
BEGIN:DAYLIGHT
TZOFFSETFROM:-0400
TZOFFSETTO:-0300
TZNAME:ADT
DTSTART:20270314T060000
END:DAYLIGHT
BEGIN:STANDARD
TZOFFSETFROM:-0300
TZOFFSETTO:-0400
TZNAME:AST
DTSTART:20271107T050000
END:STANDARD
END:VTIMEZONE
BEGIN:VEVENT
DTSTART;TZID=America/Halifax:20260219T170000
DTEND;TZID=America/Halifax:20260219T200000
DTSTAMP:20260424T182744
CREATED:20260205T120155Z
LAST-MODIFIED:20260205T121016Z
UID:120855-1771520400-1771531200@tampabayconnects.com
SUMMARY:Empresarios PR: Noches de Conexiónes
DESCRIPTION:Empresarios PR: Noches de Conexiónes is bringing professionals and entrepreneurs together for an evening of meaningful networking in San Juan\, Puerto Rico. \nOrganized by Empresarios PR\, this networking mixer is designed to create genuine connections\, spark collaborations\, and strengthen the local and international business community. Attendees can expect a relaxed yet professional environment ideal for meeting fellow business owners\, entrepreneurs\, and industry leaders. \nThe event will take place on February 19\, from 5:00 PM to 8:00 PM AST\, at Hyatt Place San Juan. \nRegistration is required and can be completed online through Eventbrite:\n👉 https://www.eventbrite.com/e/empresarios-pr-noches-de-conexiones-tickets-1982373904713?aff=ebdsoporgprofile \nFor updates and additional details\, follow the organizers on social media:\n📸 Instagram: Tampa Business Club** – https://www.instagram.com/tampabusinessclub/?hl=en\n📘 Facebook: Tampa Business Club – https://www.facebook.com/tampabusinessclub/ \n#Tampa #TampaBay #StPete #Clearwater #ThingsToDo #LocalEvents #Networking #TampaBayConnects #TampaNetworking #WomenInBusiness #TampaEntrepreneurs #Startups #TampaEats #TampaNightlife #DowntownTampa #TampaEvents #TampaSocials #tampaMagazine #TampaBayMagazine \n  \nTampaBusinessClub.com \nTampabayconnects.com \nWomenImpactNetwork.com \nTampaBayLatinChamber.com \nInGateConsulting.com \n  \nRegistration is required and can be completed online through Eventbrite:\n👉 https://www.eventbrite.com/e/empresarios-pr-noches-de-conexiones-tickets-1982373904713?aff=ebdsoporgprofile \nTampa Bay Connects is a community discovery and media platform. We do not organize\, host\, manage\, or operate the events featured on this site. All events\, trademarks\, logos\, photographs\, and promotional materials are the property of their respective owners and are displayed for informational and promotional purposes only. \n  \nOur content is shared to help connect the community with local experiences and is sourced from public event listings\, organizers\, or official promotional channels. Full credit is given to the original event organizers\, and direct links to official event pages are provided whenever available. \n  \nInclusion on TampaBayConnects.com does not imply sponsorship\, partnership\, or endorsement by Tampa Bay Connects\, unless explicitly stated. \n  \n \ntampabayconnects
URL:https://tampabayconnects.com/event/empresarios-pr-noches-de-conexiones/
ATTACH;FMTTYPE=image/jpeg:https://tampabayconnects.com/wp-content/uploads/2026/02/https___cdn.evbuc_.com_images_1176697241_219764649937_1_original-1.jpg
END:VEVENT
BEGIN:VEVENT
DTSTART;TZID=America/Halifax:20260219T173000
DTEND;TZID=America/Halifax:20260219T203000
DTSTAMP:20260424T182744
CREATED:20260120T143531Z
LAST-MODIFIED:20260120T143601Z
UID:120297-1771522200-1771533000@tampabayconnects.com
SUMMARY:3rd Thursday Networking Firechat Social at Venue 2106
DESCRIPTION:The Tampa Business Club is hosting the 3rd Thursday Networking Firechat Social\, a free admission networking event featuring complimentary appetizers. This monthly gathering provides a welcoming space for professionals\, entrepreneurs\, and business owners to connect\, collaborate\, and build meaningful relationships in the Tampa Bay community. \nThe event will take place on Thursday\, February 19\, from 5:30 PM to 8:30 PM EST at Venue 2106\, located at 2106 West Main Street\, Tampa\, FL 33607. \n📍 Location: Venue 2106\, 2106 West Main Street\, Tampa\, FL 33607\n📅 Date: February 19\n⏰ Time: 5:30 PM – 8:30 PM EST\n🎟️ Admission: Free (with appetizers) \n👉 Event Registration:\nhttps://www.eventbrite.com/e/3rd-thursday-networking-firechat-social-free-admissionappetizers-tickets-1980331113670?aff=ebdsoporgprofile \n🔗 Organizer: Tampa Business Club\n📸 Instagram: https://www.instagram.com/tampabusinessclub/?hl=en\n🌐 Website: https://tampabusinessclub.com/ \n#Tampa #TampaBay #StPete #Clearwater #ThingsToDo #LocalEvents #Networking #TampaBayConnects #TampaNetworking #WomenInBusiness #TampaEntrepreneurs #Startups #TampaEats #TampaNightlife #DowntownTampa #TampaEvents #TampaSocials #tampaMagazine #TampaBayMagazine \n  \nTampaBusinessClub.com \nTampabayconnects.com \nWomenImpactNetwork.com \nTampaBayLatinChamber.com \nInGateConsulting.com \n  \n👉 Event Registration:\nhttps://www.eventbrite.com/e/3rd-thursday-networking-firechat-social-free-admissionappetizers-tickets-1980331113670?aff=ebdsoporgprofile \n  \nTampa Bay Connects is a community discovery and media platform. We do not organize\, host\, manage\, or operate the events featured on this site. All events\, trademarks\, logos\, photographs\, and promotional materials are the property of their respective owners and are displayed for informational and promotional purposes only. \n  \nOur content is shared to help connect the community with local experiences and is sourced from public event listings\, organizers\, or official promotional channels. Full credit is given to the original event organizers\, and direct links to official event pages are provided whenever available. \n  \nInclusion on TampaBayConnects.com does not imply sponsorship\, partnership\, or endorsement by Tampa Bay Connects\, unless explicitly stated. \n  \n \n  \ntampabayconnects
URL:https://tampabayconnects.com/event/3rd-thursday-networking-firechat-social-at-venue-2106/
ATTACH;FMTTYPE=image/jpeg:https://tampabayconnects.com/wp-content/uploads/2026/01/https___cdn.evbuc_.com_images_1174561064_219764649937_1_original.jpg
END:VEVENT
BEGIN:VEVENT
DTSTART;TZID=America/Halifax:20260219T173000
DTEND;TZID=America/Halifax:20260219T203000
DTSTAMP:20260424T182744
CREATED:20260216T161508Z
LAST-MODIFIED:20260216T161508Z
UID:121155-1771522200-1771533000@tampabayconnects.com
SUMMARY:Women Impact Network Carrollwood Chapter at Tampa Wine Room
DESCRIPTION:Tampa Bay Connects is pleased to reshare details for the Women Impact Network Carrollwood Chapter networking events\, organized by the Tampa Business Club in collaboration with Women Impact Network. Hosted at the Tampa Wine Room\, these gatherings take place on multiple dates\, offering women professionals\, entrepreneurs\, and leaders a welcoming environment to connect\, collaborate\, and support one another’s growth within the Tampa Bay business community. \nAttendees can expect engaging networking opportunities\, meaningful conversations\, and a supportive space designed to foster professional development and community connections. \nEvent Details:\n📍 Location: Tampa Wine Room\n📅 Date: Multiple Dates\n🎟️ Registration: https://www.eventbrite.com/e/women-impact-network-carrollwood-chapter-tickets-1622937693329?aff=ebdsoporgprofile\n🌐 Organizer Website: https://tampabusinessclub.com/\n🌐 Network Info: https://womenimpactnetwork.com/\n🌐 Venue Website: https://tampawineroom.com/\n📱 Instagram: https://www.instagram.com/tampabusinessclub/?hl=en \n#Tampa #TampaBay #StPete #Clearwater #ThingsToDo #LocalEvents #Networking #TampaBayConnects #TampaNetworking #WomenInBusiness #TampaEntrepreneurs #Startups #TampaEats #TampaNightlife #DowntownTampa #TampaEvents #TampaSocials #tampaMagazine #TampaBayMagazine \n  \nTampaBusinessClub.com \nTampabayconnects.com \nWomenImpactNetwork.com \nTampaBayLatinChamber.com \nInGateConsulting.com \n  \n🎟️ Registration: https://www.eventbrite.com/e/women-impact-network-carrollwood-chapter-tickets-1622937693329?aff=ebdsoporgprofile \n \nTampa Bay Connects is a community discovery and media platform. We do not organize\, host\, manage\, or operate the events featured on this site. All events\, trademarks\, logos\, photographs\, and promotional materials are the property of their respective owners and are displayed for informational and promotional purposes only. \n  \nOur content is shared to help connect the community with local experiences and is sourced from public event listings\, organizers\, or official promotional channels. Full credit is given to the original event organizers\, and direct links to official event pages are provided whenever available. \n  \nInclusion on TampaBayConnects.com does not imply sponsorship\, partnership\, or endorsement by Tampa Bay Connects\, unless explicitly stated. \n\n \ntampabayconnects
URL:https://tampabayconnects.com/event/women-impact-network-carrollwood-chapter-at-tampa-wine-room/
ATTACH;FMTTYPE=image/jpeg:https://tampabayconnects.com/wp-content/uploads/2026/02/https___cdn.evbuc_.com_images_1102751853_219764649937_1_original.jpg
END:VEVENT
END:VCALENDAR